BEGIN:VCALENDAR
VERSION:2.0
PRODID:GlueUp
CALSCALE:GREGORIAN
BEGIN:VTIMEZONE
TZID:UTC
BEGIN:STANDARD
DTSTART:19700101T000000
TZOFFSETFROM:+0000
TZOFFSETTO:+0000
TZNAME:UTC
END:STANDARD
END:VTIMEZONE
BEGIN:VEVENT
TZ:+00
ORGANIZER;CN=Lya Chen:MAILTO:info@dusa-eu.cn
UID:22048-1776792539@https://dusaeu.glueup.cn
DTSTAMP:20260421T172859Z
DTSTART:20190605T060000Z
DTEND:20190605T090000Z
SUMMARY:[Update] Last Call of DUSA Workshop "How to Manage Your Boss' Expectations"
DESCRIPTION:[Update] Last Call of DUSA Workshop "How to Manage Your Boss' Expectations" by DUSA European Association Suzhou\n\nJun 5, 2019 (2:00 PM - 5:00 PM)(GMT+8)\n\nFor more information, click here: https://dusaeu.glueup.cn/my/events/22048
LOCATION:佩里科尼（苏州）瓶盖制造有限公司 - Pelliconi Suzhou Closures Manufacturing Co. Ltd. -  - No. 858 Zhujiang Road - SND Suzhou - 苏州高新区珠江路858号 Suzhou - Jiangsu - China
BEGIN:VALARM
TRIGGER:-PT48H
REPEAT:4
DURATION:PT30M
ACTION:DISPLAY
END:VALARM
END:VEVENT
END:VCALENDAR