BEGIN:VCALENDAR
VERSION:2.0
PRODID:GlueUp
CALSCALE:GREGORIAN
BEGIN:VTIMEZONE
TZID:UTC
BEGIN:STANDARD
DTSTART:19700101T000000
TZOFFSETFROM:+0000
TZOFFSETTO:+0000
TZNAME:UTC
END:STANDARD
END:VTIMEZONE
BEGIN:VEVENT
TZ:+00
ORGANIZER;CN=Michelle Xue:MAILTO:biz@dusa-eu.cn
UID:38131-1777114867@https://dusaeu.glueup.cn
DTSTAMP:20260425T110107Z
DTSTART:20220919T160001Z
DTEND:20220919T160001Z
SUMMARY:Thanks Letter to All the Sponsors & Guests for Oktoberfest 2022
DESCRIPTION:Thanks Letter to All the Sponsors & Guests for Oktoberfest 2022 by DUSA European Association Suzhou\n\nSep 20, 2022(GMT+8)\n\nFor more information, click here: https://dusaeu.glueup.cn/my/events/38131
LOCATION:Kempinski Hotel Suzhou - No. 1 - Guobin Rd. (Jinji Lake Business Center - near Jinji Lake Avenue) China
BEGIN:VALARM
TRIGGER:-PT48H
REPEAT:4
DURATION:PT30M
ACTION:DISPLAY
END:VALARM
END:VEVENT
END:VCALENDAR