BEGIN:VCALENDAR
VERSION:2.0
PRODID:GlueUp
CALSCALE:GREGORIAN
BEGIN:VTIMEZONE
TZID:UTC
BEGIN:STANDARD
DTSTART:19700101T000000
TZOFFSETFROM:+0000
TZOFFSETTO:+0000
TZNAME:UTC
END:STANDARD
END:VTIMEZONE
BEGIN:VEVENT
TZ:+00
ORGANIZER;CN=Michelle Xue:MAILTO:biz@dusa-eu.cn
UID:30172-1777059985@https://dusaeu.glueup.cn
DTSTAMP:20260424T194625Z
DTSTART:20210202T013000Z
DTEND:20210202T050000Z
SUMMARY:[Suzhou] The Sustainable Factory - Seminar & Panel Discussion
DESCRIPTION:[Suzhou] The Sustainable Factory - Seminar & Panel Discussion by DUSA European Association Suzhou\n\nFeb 2, 2021 (9:30 AM - 1:00 PM)(GMT+8)\n\nFor more information, click here: https://dusaeu.glueup.cn/my/events/30172
LOCATION:GAMI全球先进制造研究所 - Industry 4.0 Demonstration and Innovation Center - Room 1101 - Building A - Wisdom Center - No.10 Moon Bay Road - Suzhou Industrial Park - 苏州工业园区月亮湾路10号慧湖大厦A座1101室中德工业4.0技术展示创新中心
BEGIN:VALARM
TRIGGER:-PT48H
REPEAT:4
DURATION:PT30M
ACTION:DISPLAY
END:VALARM
END:VEVENT
END:VCALENDAR