BEGIN:VCALENDAR
VERSION:2.0
PRODID:GlueUp
CALSCALE:GREGORIAN
BEGIN:VTIMEZONE
TZID:UTC
BEGIN:STANDARD
DTSTART:19700101T000000
TZOFFSETFROM:+0000
TZOFFSETTO:+0000
TZNAME:UTC
END:STANDARD
END:VTIMEZONE
BEGIN:VEVENT
TZ:+00
ORGANIZER;CN=Maggie Chen:MAILTO:info@dusa-eu.cn
UID:45386-1777050510@https://dusaeu.glueup.cn
DTSTAMP:20260424T170830Z
DTSTART:20241023T060000Z
DTEND:20241023T083000Z
SUMMARY:Oct 23rd: DUSA Workshop "AI-boosted innovation and its patent protection"
DESCRIPTION:Oct 23rd: DUSA Workshop "AI-boosted innovation and its patent protection" by DUSA European Association Suzhou\n\nOct 23, 2024 (2:00 PM - 4:30 PM)(GMT+8)\n\nFor more information, click here: https://dusaeu.glueup.cn/my/events/45386
LOCATION:ruhlamat Automation Technologies (Suzhou) Co., Ltd. - 儒拉玛特自动化技术（苏州）有限公司 -  - No. 16  Yang Fu Road - SIP - 苏州工业园区扬富路16号
BEGIN:VALARM
TRIGGER:-PT48H
REPEAT:4
DURATION:PT30M
ACTION:DISPLAY
END:VALARM
END:VEVENT
END:VCALENDAR