BEGIN:VCALENDAR
VERSION:2.0
PRODID:GlueUp
CALSCALE:GREGORIAN
BEGIN:VTIMEZONE
TZID:UTC
BEGIN:STANDARD
DTSTART:19700101T000000
TZOFFSETFROM:+0000
TZOFFSETTO:+0000
TZNAME:UTC
END:STANDARD
END:VTIMEZONE
BEGIN:VEVENT
TZ:+00
ORGANIZER;CN=Michelle Xue:MAILTO:biz@dusa-eu.cn
UID:49778-1776691848@https://dusaeu.glueup.cn
DTSTAMP:20260420T133048Z
DTSTART:20260326T100000Z
DTEND:20260326T133000Z
SUMMARY:[Member Only] March 26th: Invitation of Social Gathering & AGM 2026
DESCRIPTION:[Member Only] March 26th: Invitation of Social Gathering & AGM 2026 by DUSA European Association Suzhou\n\nMar 26, 2026 (6:00 PM - 9:30 PM)(GMT+8)\n\nFor more information, click here: https://dusaeu.glueup.cn/my/events/49778
LOCATION:The Circle - 3rd Floor - SuYi Show Zone - Suzhou Culture & Arts Centre Suzhou - China
BEGIN:VALARM
TRIGGER:-PT48H
REPEAT:4
DURATION:PT30M
ACTION:DISPLAY
END:VALARM
END:VEVENT
END:VCALENDAR