BEGIN:VCALENDAR
VERSION:2.0
PRODID:GlueUp
CALSCALE:GREGORIAN
BEGIN:VTIMEZONE
TZID:UTC
BEGIN:STANDARD
DTSTART:19700101T000000
TZOFFSETFROM:+0000
TZOFFSETTO:+0000
TZNAME:UTC
END:STANDARD
END:VTIMEZONE
BEGIN:VEVENT
TZ:+00
ORGANIZER;CN=Lya Chen:MAILTO:info@dusa-eu.cn
UID:39472-1776756757@https://dusaeu.glueup.cn
DTSTAMP:20260421T073237Z
DTSTART:20230329T011500Z
DTEND:20230330T090000Z
SUMMARY:Mar 29 -30: the 6th SMAS (Smart Manufacturing Application Sharing) Forum
DESCRIPTION:Mar 29 -30: the 6th SMAS (Smart Manufacturing Application Sharing) Forum by DUSA European Association Suzhou\n\nMar 29 & 30, 2023(GMT+8)\n\nFor more information, click here: https://dusaeu.glueup.cn/my/events/39472
LOCATION:Kempinski Hotel Suzhou - 苏州凯宾斯基大酒店 -  - No. 1 Guo Bin Road - SIP - 苏州工业园区国宾路1号 Suzhou - China
BEGIN:VALARM
TRIGGER:-PT48H
REPEAT:4
DURATION:PT30M
ACTION:DISPLAY
END:VALARM
END:VEVENT
END:VCALENDAR