BEGIN:VCALENDAR
VERSION:2.0
PRODID:GlueUp
CALSCALE:GREGORIAN
BEGIN:VTIMEZONE
TZID:UTC
BEGIN:STANDARD
DTSTART:19700101T000000
TZOFFSETFROM:+0000
TZOFFSETTO:+0000
TZNAME:UTC
END:STANDARD
END:VTIMEZONE
BEGIN:VEVENT
TZ:+00
ORGANIZER;CN=Maggie Chen:MAILTO:info@dusa-eu.cn
UID:24990-1776816038@https://dusaeu.glueup.cn
DTSTAMP:20260422T000038Z
DTSTART:20191226T050000Z
DTEND:20191226T083000Z
SUMMARY:Last Call of Training "Sales Strategy in the Economic Downturn" on Dec 26
DESCRIPTION:Last Call of Training "Sales Strategy in the Economic Downturn" on Dec 26 by DUSA European Association Suzhou\n\nDec 26, 2019 (1:00 PM - 4:30 PM)(GMT+8)\n\nFor more information, click here: https://dusaeu.glueup.cn/my/events/24990
LOCATION:Holiday Inn Express Suzhou New District - 苏州龙湖狮山天街智选假日酒店 -  - No. 181 - Tayuan Road - Suzhou New District - Suzhou - 苏州高新区塔园路181号 Suzhou - Jiangsu
BEGIN:VALARM
TRIGGER:-PT48H
REPEAT:4
DURATION:PT30M
ACTION:DISPLAY
END:VALARM
END:VEVENT
END:VCALENDAR