BEGIN:VCALENDAR
VERSION:2.0
PRODID:GlueUp
CALSCALE:GREGORIAN
BEGIN:VTIMEZONE
TZID:UTC
BEGIN:STANDARD
DTSTART:19700101T000000
TZOFFSETFROM:+0000
TZOFFSETTO:+0000
TZNAME:UTC
END:STANDARD
END:VTIMEZONE
BEGIN:VEVENT
TZ:+00
ORGANIZER;CN=Maggie Chen:MAILTO:info@dusa-eu.cn
UID:29833-1777151489@https://dusaeu.glueup.cn
DTSTAMP:20260425T211129Z
DTSTART:20210119T010000Z
DTEND:20210119T090000Z
SUMMARY:Last Call of DUSA Training "Application of Value Stream Mapping" on Jan 19
DESCRIPTION:Last Call of DUSA Training "Application of Value Stream Mapping" on Jan 19 by DUSA European Association Suzhou\n\nJan 19, 2021 (9:00 AM - 5:00 PM)(GMT+8)\n\nFor more information, click here: https://dusaeu.glueup.cn/my/events/29833
LOCATION:GAMI全球先进制造研究所 - Industry 4.0 Demonstration and Innovation Center - Room 1101 - Building A - Wisdom Center - No.10 Moon Bay Road - Suzhou Industrial Park - 苏州工业园区月亮湾路10号慧湖大厦A座1101室中德工业4.0技术展示创新中心
BEGIN:VALARM
TRIGGER:-PT48H
REPEAT:4
DURATION:PT30M
ACTION:DISPLAY
END:VALARM
END:VEVENT
END:VCALENDAR