BEGIN:VCALENDAR
VERSION:2.0
PRODID:GlueUp
CALSCALE:GREGORIAN
BEGIN:VTIMEZONE
TZID:UTC
BEGIN:STANDARD
DTSTART:19700101T000000
TZOFFSETFROM:+0000
TZOFFSETTO:+0000
TZNAME:UTC
END:STANDARD
END:VTIMEZONE
BEGIN:VEVENT
TZ:+00
ORGANIZER;CN=Lya Chen:MAILTO:info@dusa-eu.cn
UID:20851-1776774613@https://dusaeu.glueup.cn
DTSTAMP:20260421T123013Z
DTSTART:20190307T100000Z
DTEND:20190307T133000Z
SUMMARY:Last call of DUSA March Roundtable "Women Executives on Work/Life Balance"
DESCRIPTION:Last call of DUSA March Roundtable "Women Executives on Work/Life Balance" by DUSA European Association Suzhou\n\nMar 7, 2019 (6:00 PM - 9:30 PM)(GMT+8)\n\nFor more information, click here: https://dusaeu.glueup.cn/my/events/20851
LOCATION:158-50 Huashan Rd. FengQiao Industry Park,SND - 苏州市高新区枫桥工业园华山路158-50号 - VIA optronics (Suzhou) Co.,Ltd - 伟亚光电（苏州）有限公司
BEGIN:VALARM
TRIGGER:-PT48H
REPEAT:4
DURATION:PT30M
ACTION:DISPLAY
END:VALARM
END:VEVENT
END:VCALENDAR