BEGIN:VCALENDAR
VERSION:2.0
PRODID:GlueUp
CALSCALE:GREGORIAN
BEGIN:VTIMEZONE
TZID:UTC
BEGIN:STANDARD
DTSTART:19700101T000000
TZOFFSETFROM:+0000
TZOFFSETTO:+0000
TZNAME:UTC
END:STANDARD
END:VTIMEZONE
BEGIN:VEVENT
TZ:+00
ORGANIZER;CN=Lya Chen:MAILTO:info@dusa-eu.cn
UID:49818-1776686054@https://dusaeu.glueup.cn
DTSTAMP:20260420T115414Z
DTSTART:20260309T010000Z
DTEND:20260331T155500Z
SUMMARY:DUSA Upcoming Events in March 2026
DESCRIPTION:DUSA Upcoming Events in March 2026 by DUSA European Association Suzhou\n\nMar 9 - 31, 2026(GMT+8)\n\nFor more information, click here: https://dusaeu.glueup.cn/my/events/49818
LOCATION:
BEGIN:VALARM
TRIGGER:-PT48H
REPEAT:4
DURATION:PT30M
ACTION:DISPLAY
END:VALARM
END:VEVENT
END:VCALENDAR