BEGIN:VCALENDAR
VERSION:2.0
PRODID:GlueUp
CALSCALE:GREGORIAN
BEGIN:VTIMEZONE
TZID:UTC
BEGIN:STANDARD
DTSTART:19700101T000000
TZOFFSETFROM:+0000
TZOFFSETTO:+0000
TZNAME:UTC
END:STANDARD
END:VTIMEZONE
BEGIN:VEVENT
TZ:+00
ORGANIZER;CN=Michelle Xue:MAILTO:biz@dusa-eu.cn
UID:20282-1776923813@https://dusaeu.glueup.cn
DTSTAMP:20260423T055653Z
DTSTART:20190108T103000Z
DTEND:20190108T130000Z
SUMMARY:DUSA New Year Social Gathering
DESCRIPTION:DUSA New Year Social Gathering by DUSA European Association Suzhou\n\nJan 8, 2019 (6:30 PM - 9:00 PM)(GMT+8)\n\nFor more information, click here: https://dusaeu.glueup.cn/my/events/20282
LOCATION:BlueMarlin Xinghai Branch - 苏州工业园区蓝枪鱼 星海店 - No. 168 - Xinghai Street - SIP - Suzhou - 苏州工业园区星海街168号
BEGIN:VALARM
TRIGGER:-PT48H
REPEAT:4
DURATION:PT30M
ACTION:DISPLAY
END:VALARM
END:VEVENT
END:VCALENDAR