BEGIN:VCALENDAR
VERSION:2.0
PRODID:GlueUp
CALSCALE:GREGORIAN
BEGIN:VTIMEZONE
TZID:UTC
BEGIN:STANDARD
DTSTART:19700101T000000
TZOFFSETFROM:+0000
TZOFFSETTO:+0000
TZNAME:UTC
END:STANDARD
END:VTIMEZONE
BEGIN:VEVENT
TZ:+00
ORGANIZER;CN=Michelle Xue:MAILTO:biz@dusa-eu.cn
UID:21490-1776747993@https://dusaeu.glueup.cn
DTSTAMP:20260421T050633Z
DTSTART:20190410T103000Z
DTEND:20190410T130000Z
SUMMARY:April 10: DUSA April Social Gathering
DESCRIPTION:April 10: DUSA April Social Gathering by DUSA European Association Suzhou\n\nApr 10, 2019 (6:30 PM - 9:00 PM)(GMT+8)\n\nFor more information, click here: https://dusaeu.glueup.cn/my/events/21490
LOCATION:BlueMarlin Xinghai Branch - No. 168 - Xinghai Street - SIP - Suzhou - 苏州工业园区星海街168号
BEGIN:VALARM
TRIGGER:-PT48H
REPEAT:4
DURATION:PT30M
ACTION:DISPLAY
END:VALARM
END:VEVENT
END:VCALENDAR