BEGIN:VCALENDAR
VERSION:2.0
PRODID:GlueUp
CALSCALE:GREGORIAN
BEGIN:VTIMEZONE
TZID:UTC
BEGIN:STANDARD
DTSTART:19700101T000000
TZOFFSETFROM:+0000
TZOFFSETTO:+0000
TZNAME:UTC
END:STANDARD
END:VTIMEZONE
BEGIN:VEVENT
TZ:+00
ORGANIZER;CN=Michelle Xue:MAILTO:biz@dusa-eu.cn
UID:17150-1776684150@https://dusaeu.glueup.cn
DTSTAMP:20260420T112230Z
DTSTART:20180613T160000Z
DTEND:20180929T160000Z
SUMMARY:DUSA Upcoming Events in Q3
DESCRIPTION:DUSA Upcoming Events in Q3 by DUSA European Association Suzhou\n\nJun 14, 2018 to Sep 30, 2018(GMT+8)\n\nFor more information, click here: https://dusaeu.glueup.cn/my/events/17150
LOCATION:
BEGIN:VALARM
TRIGGER:-PT48H
REPEAT:4
DURATION:PT30M
ACTION:DISPLAY
END:VALARM
END:VEVENT
END:VCALENDAR